BEGIN:VCALENDAR
VERSION:2.0
PRODID:-// - ECPv6.15.20//NONSGML v1.0//EN
CALSCALE:GREGORIAN
METHOD:PUBLISH
X-ORIGINAL-URL:https://www.hartfordaudubon.org
X-WR-CALDESC:Events for 
REFRESH-INTERVAL;VALUE=DURATION:PT1H
X-Robots-Tag:noindex
X-PUBLISHED-TTL:PT1H
BEGIN:VTIMEZONE
TZID:America/New_York
BEGIN:DAYLIGHT
TZOFFSETFROM:-0500
TZOFFSETTO:-0400
TZNAME:EDT
DTSTART:20240310T070000
END:DAYLIGHT
BEGIN:STANDARD
TZOFFSETFROM:-0400
TZOFFSETTO:-0500
TZNAME:EST
DTSTART:20241103T060000
END:STANDARD
BEGIN:DAYLIGHT
TZOFFSETFROM:-0500
TZOFFSETTO:-0400
TZNAME:EDT
DTSTART:20250309T070000
END:DAYLIGHT
BEGIN:STANDARD
TZOFFSETFROM:-0400
TZOFFSETTO:-0500
TZNAME:EST
DTSTART:20251102T060000
END:STANDARD
BEGIN:DAYLIGHT
TZOFFSETFROM:-0500
TZOFFSETTO:-0400
TZNAME:EDT
DTSTART:20260308T070000
END:DAYLIGHT
BEGIN:STANDARD
TZOFFSETFROM:-0400
TZOFFSETTO:-0500
TZNAME:EST
DTSTART:20261101T060000
END:STANDARD
END:VTIMEZONE
BEGIN:VEVENT
DTSTART;TZID=America/New_York:20251206T160000
DTEND;TZID=America/New_York:20251206T183000
DTSTAMP:20260424T101323
CREATED:20250729T140137Z
LAST-MODIFIED:20250729T140137Z
UID:15774-1765036800-1765045800@www.hartfordaudubon.org
SUMMARY:Hartford Crow Roost Event - December 6\, 2025
DESCRIPTION:Dec 6 Hartford Crow Roost Sat 4 pmMeet outside main entrance to Walmart Supercenter in CharterOak Marketplace\, 495 Flatbush Ave.\, Hartford CT.\nWatch for AllHAS note the week prior to confirm meeting placeWatching thousands of crows return to their nightly roost is anexciting winter spectacle.\n\nThe roost tends to be near the Hartford/West Hartford boundary\, often within sight of I–84.\n\nI’ll be tracking the roost location and will update the meeting placeusing the AllHAS e–mail if the crows have moved to a new area.Be prepared to drive around some after we meet to see crows flyingin from different directions. Dress quite warmly (including hats\,gloves\, and warm footwear): we will often be standing still. Thecrow show will probably last a little over an hour. Trip will becancelled or rescheduled if snow or rain is falling or the weather isotherwise dangerous; call to ask if the weather seems borderline.\n\nSylvia Halkin halkin@ccsu.edu 860–985–7343 T
URL:https://www.hartfordaudubon.org/trip-event/hartford-crow-roost-event-december-6-2025/
LOCATION:CT
CATEGORIES:Field Trip
ORGANIZER;CN="Hartford Audubon Society":MAILTO:info@hartfordaudubon.org
END:VEVENT
BEGIN:VEVENT
DTSTART;TZID=America/New_York:20251209T180000
DTEND;TZID=America/New_York:20251209T213000
DTSTAMP:20260424T101323
CREATED:20250729T140408Z
LAST-MODIFIED:20250729T140408Z
UID:15777-1765303200-1765315800@www.hartfordaudubon.org
SUMMARY:Annual Holiday Meeting - Potluck Supper/Slideshow - December 9\, 2025
DESCRIPTION:Dec 9 ⛄Annual Holiday Meeting🌲 Tue 6:30 pmPotluck Supper and SlideshowSt James’s Episcopal Church1018 Farmington Ave\, West Hartford \nKindly bring a favorite dish to share with your HAS birdingfriends! In the spirit of continuing a fun tradition\, consider donningyour favorite festive bird–related garb! Following dinner\, we’llhave the teacup auction and the member photo–sharing session.Please BYO flatware\, plates\, and serving utensils for any shareddishes. Feel free to bring bird/nature–related items to donate for theteacup auction\, and/or cash so that you can add to the books andcollectiables in your own home.  \nContact Mona Cavallero at mcavallero1@comcast.net for details on sharing your photos. \nAudrey Staropoli Audrey@hartfordaudubon.org 860–961–6330 T
URL:https://www.hartfordaudubon.org/trip-event/annual-holiday-meeting-potluck-supper-slideshow-december-9-2025/
LOCATION:St. James’s Episcopal Church\, 1018 Farmington Ave.\, West Hartford\, CT\, 06127\, United States
CATEGORIES:Meeting
ORGANIZER;CN="Hartford Audubon Society":MAILTO:info@hartfordaudubon.org
END:VEVENT
BEGIN:VEVENT
DTSTART;VALUE=DATE:20251214
DTEND;VALUE=DATE:20251215
DTSTAMP:20260424T101323
CREATED:20250729T140622Z
LAST-MODIFIED:20250729T140622Z
UID:15779-1765670400-1765756799@www.hartfordaudubon.org
SUMMARY:Christmas Bird Count - All Day - December 14\, 2025
DESCRIPTION:Dec 14 Christmas Bird Count Sun All DayBird Count Circle7.5–mile radius from Old State House \nJoin Hartford Audubon Members for the nation’s longest–runningcitizen science project to assess population trends of birds duringthe winter season. For one day\, we count birds in a circle aroundHartford that is divided into specific areas. Bird an hour or bird allday. A list of Captains will be released at a later date. \nJay Kaplan jaybrd49@aol.com 860–693–0157860–707–5246 T
URL:https://www.hartfordaudubon.org/trip-event/christmas-bird-count-all-day-december-14-2025/
LOCATION:CT
CATEGORIES:Club Event
ORGANIZER;CN="Hartford Audubon Society":MAILTO:info@hartfordaudubon.org
END:VEVENT
END:VCALENDAR