BEGIN:VCALENDAR
VERSION:2.0
PRODID:-// - ECPv6.15.20//NONSGML v1.0//EN
CALSCALE:GREGORIAN
METHOD:PUBLISH
X-ORIGINAL-URL:https://www.hartfordaudubon.org
X-WR-CALDESC:Events for 
REFRESH-INTERVAL;VALUE=DURATION:PT1H
X-Robots-Tag:noindex
X-PUBLISHED-TTL:PT1H
BEGIN:VTIMEZONE
TZID:America/New_York
BEGIN:DAYLIGHT
TZOFFSETFROM:-0500
TZOFFSETTO:-0400
TZNAME:EDT
DTSTART:20250309T070000
END:DAYLIGHT
BEGIN:STANDARD
TZOFFSETFROM:-0400
TZOFFSETTO:-0500
TZNAME:EST
DTSTART:20251102T060000
END:STANDARD
BEGIN:DAYLIGHT
TZOFFSETFROM:-0500
TZOFFSETTO:-0400
TZNAME:EDT
DTSTART:20260308T070000
END:DAYLIGHT
BEGIN:STANDARD
TZOFFSETFROM:-0400
TZOFFSETTO:-0500
TZNAME:EST
DTSTART:20261101T060000
END:STANDARD
BEGIN:DAYLIGHT
TZOFFSETFROM:-0500
TZOFFSETTO:-0400
TZNAME:EDT
DTSTART:20270314T070000
END:DAYLIGHT
BEGIN:STANDARD
TZOFFSETFROM:-0400
TZOFFSETTO:-0500
TZNAME:EST
DTSTART:20271107T060000
END:STANDARD
END:VTIMEZONE
BEGIN:VEVENT
DTSTART;TZID=America/New_York:20260101T080000
DTEND;TZID=America/New_York:20260131T170000
DTSTAMP:20260424T084059
CREATED:20250729T141105Z
LAST-MODIFIED:20251223T135952Z
UID:15781-1767254400-1769878800@www.hartfordaudubon.org
SUMMARY:Big January Birding Event - All month - Hartford County January 2026
DESCRIPTION:Jan 1 Big January All Month – All of Hartford County \nDear HAS Members\,\n\n\nIt’s that time of year!  The Hartford Audubon Society (HAS) is pleased to announce our ninth annual Hartford County Big January of Birding birdwatching challenge. The goal of the activity is to encourage folks to get outside during the month of January and see as many species of wild birds in Hartford County as possible. The challenge is free to people of all ages and is not intended to be competitive — please share your findings and encourage new birders.\n\n And this year\, the CT Ornithological Association is running an all-CT Big January\, so you can do both ours in Hartford County AND the statewide challenge too!\n\nTo participate in both challenges\, birders should enter their daily or periodic observations into ebird.org\, the free birdwatching site maintained by the Cornell University Lab of Ornithology.  If you don’t use eBird\, you can list your species\, date seen\, location\, and brief description\, and send it via email or mail directly to me right at the end of January. It must be received by Wednesday\, February 4th.  You do not need to be a HAS member or reside in Hartford County to enter. At the end of the month\, Hartford Audubon will retrieve all the data and award certificates and prizes. There are four categories:\n\nYouth (ages 4-10) who must see at least 25 species to enter\nTeen (ages 11-17) who must see at least 35 species to enter\nWeekend Warrior (adults ages 18 and up who can’t get outdoors during the week) who must see at least 50 species to enter\nAdults (ages 18 and up who can get outdoors during the week) who must see at least 60 species to enter.\n\nAll entries that meet the minimum number of species for each challenge group will receive a certificate of achievement.  A special prize will be awarded for the highest species count for each challenge group\, and the coveted “Golden Grebe” award will be given to the birder finding the most unusual bird.\n\nJanuary\, 2026 may be a very interesting month and a joyful way to enter the new year. There are some rarities showing up this week – I hope they will stay until after January 1st!  I’ve never seen a barnacle goose in Connecticut!\n\nWishing everyone a healthy and birdy 2026\,\n\nSarah Faulkner
URL:https://www.hartfordaudubon.org/trip-event/big-january-birding-event-all-month-hartford-county-january-2026/
LOCATION:CT
CATEGORIES:Club Event
ORGANIZER;CN="Hartford Audubon Society":MAILTO:info@hartfordaudubon.org
END:VEVENT
BEGIN:VEVENT
DTSTART;TZID=America/New_York:20260103T090000
DTEND;TZID=America/New_York:20260103T110000
DTSTAMP:20260424T084059
CREATED:20250731T130616Z
LAST-MODIFIED:20250803T165026Z
UID:15783-1767430800-1767438000@www.hartfordaudubon.org
SUMMARY:Station 43 Beginner's Bird Walk - January 3\, 2026
DESCRIPTION:Jan 3 Station 43 Beginners Bird Walk #2 Sat 9 am953 Main St\, South WindsorCorner of Newberry Rd and Main StPark along road near intersection. \nThe second of four morning walks designed for beginners atHartford Audubon’s oldest sanctuary. Station 43 is an excellentbirding area year–round and on each walk we will look for seasonalbirds. The walk is roughly 2.5 miles (3 hours) long over flat terrainbut we may encounter areas with water/ice covering parts of thepath. Waterproof boots suggested. \nJon Ward jward88787@aol.com 860–416–3958 T
URL:https://www.hartfordaudubon.org/trip-event/station-43-beginners-bird-walk-january-3-2025/
LOCATION:CT
CATEGORIES:Field Trip
ORGANIZER;CN="Hartford Audubon Society":MAILTO:info@hartfordaudubon.org
END:VEVENT
BEGIN:VEVENT
DTSTART;TZID=America/New_York:20260113T190000
DTEND;TZID=America/New_York:20260113T210000
DTSTAMP:20260424T084059
CREATED:20250731T130922Z
LAST-MODIFIED:20250803T165144Z
UID:15785-1768330800-1768338000@www.hartfordaudubon.org
SUMMARY:Monthly Meeting - Senator George P. McLean and the Migratory Bird Treaty Act - January 13\, 2026
DESCRIPTION:Jan 13 ✪ Monthly Meeting ✪ Tue 7:30 pmSocial Time at 7:00pmSt James’s Episcopal Church\,1018 Farmington Ave\, WH \nSpeaker: Will Mclean Greenley\, AuthorBirdman of the Senate: Senator George P. McLeanand the Migratory Bird Treaty ActPresentation by ZOOM. Greeley\, McLean’s great–great nephewwill discuss his biography of Senator George P. McLean\, titled AConnecticut Yankee Goes to Washington: Senator George P.McLean\, Birdman of the Senate. Connecticut’s own SenatorMcLean helped establish legal protections for birds\, including thepassage of the 1918 Migratory Bird Treaty Act. \nAlison Wilcox Speakers@HartfordAudubon.org 860–707–5907
URL:https://www.hartfordaudubon.org/trip-event/monthly-meeting-senator-george-p-mclean-and-the-migratory-bird-treaty-act-january-13-2025/
LOCATION:St. James’s Episcopal Church\, 1018 Farmington Ave.\, West Hartford\, CT\, 06127\, United States
CATEGORIES:Meeting
ORGANIZER;CN="Hartford Audubon Society":MAILTO:info@hartfordaudubon.org
END:VEVENT
BEGIN:VEVENT
DTSTART;TZID=America/New_York:20260117T080000
DTEND;TZID=America/New_York:20260118T170000
DTSTAMP:20260424T084059
CREATED:20250731T131612Z
LAST-MODIFIED:20251213T162610Z
UID:15787-1768636800-1768755600@www.hartfordaudubon.org
SUMMARY:Cape Ann and Newburyport MA- Bird Trip - Jan 17-18\, 2026
DESCRIPTION:Jan 17-18 Cape Ann & Newburyport\, MA Sat 2 days \nContact Wendy or Fran at least one week in advance for details \nBarrow’s Goldeneye\, Snowy Owl\, alcids\, sea ducks\, and northernrarities are the targets of this perennial favorite trip. Be preparedfor severe cold and windy weather and hope for moderate temps.Contact leader for motel (to get the reduced rate) and meeting time. \nWendy Parsons flowers76@sbcglobal.net 860–471–3700 TFran D’Amico frandamico525@yahoo.com 203–237–2734
URL:https://www.hartfordaudubon.org/trip-event/cape-ann-and-newburyport-bird-trip-january-17-18-2026/
LOCATION:Cape Ann & Newburyport\, MA\, Cape Ann\, Rockport\, MA\, United States
CATEGORIES:Field Trip
ORGANIZER;CN="Hartford Audubon Society":MAILTO:info@hartfordaudubon.org
END:VEVENT
BEGIN:VEVENT
DTSTART;TZID=America/New_York:20260124T073000
DTEND;TZID=America/New_York:20260124T110000
DTSTAMP:20260424T084059
CREATED:20250731T131956Z
LAST-MODIFIED:20260123T130854Z
UID:15789-1769239800-1769252400@www.hartfordaudubon.org
SUMMARY:Cancelled due to cold weather:  Hartford County Boat Launch Bird Walk - January 24\, 2026
DESCRIPTION:Cancelled due to cold weather. \nJan 24 Hartford County Boat Launch Tour Sat 7:30 am12 South River St\, EnfieldDonald Barnes Boat Launch \nThis is a morning tour of eight area boat launches\, from Enfield toRocky Hill. It will last until approximately 11am. Dress warmlyand bring a scope if you like. Bad weather may cancel the trip. \nPaul Cianfaglione pgcianfaglione@gmail.com 860–836–3443 TAl Gatti algatti22@gmail.com 860–916–7142 T
URL:https://www.hartfordaudubon.org/trip-event/hartford-county-boat-launch-bird-walk-january-24-2026/
LOCATION:Donald Barnes Boat Launch\, 1 S River St.\, Enfield\, CT\, 06082\, United States
CATEGORIES:Field Trip
ORGANIZER;CN="Hartford Audubon Society":MAILTO:info@hartfordaudubon.org
END:VEVENT
BEGIN:VEVENT
DTSTART;TZID=America/New_York:20260131T080000
DTEND;TZID=America/New_York:20260201T170000
DTSTAMP:20260424T084059
CREATED:20250731T132306Z
LAST-MODIFIED:20251213T170652Z
UID:15791-1769846400-1769965200@www.hartfordaudubon.org
SUMMARY:Cape Cod Bird Trip - UPDATED DATES: Jan 31 - Feb 1\, 2026
DESCRIPTION:Jan 31 – Feb 1 –  Cape Cod Tour\, MA Sat 2 daysMeet and stay at The Cove\, Orleans\, Massachusetts \nIf you need hotel reservations at The Cove\, ask for the HAS discount.\nThis is New England late–winter birding at its finest. We should seealcids and waterfowl. \nPeter Stephan stephraf@aol.com 860–729–8374 T
URL:https://www.hartfordaudubon.org/trip-event/cape-cod-bird-trip-february-7-8-2026/
LOCATION:Cape Cod\, Cape Cod\, MA\, United States
CATEGORIES:Field Trip
ORGANIZER;CN="Hartford Audubon Society":MAILTO:info@hartfordaudubon.org
END:VEVENT
END:VCALENDAR